BEGIN:VCALENDAR
VERSION:2.0
PRODID:icalendar-ruby
CALSCALE:GREGORIAN
METHOD:PUBLISH
BEGIN:VEVENT
DTSTAMP:20260423T005206Z
UID:9-226675@reidlandumc.org
DTSTART:20260615T230000Z
DTEND:20260618T014500Z
CLASS:PUBLIC
CREATED:20260421T122753
DESCRIPTION:Meal\, Music\, Bible Story\, Crafts\, Recreation &amp\; More! 
 \n \nPreschool - 5th Grade
LAST-MODIFIED:20260421T122753
LOCATION:Reidland United Methodist Church
SUMMARY:Vacation Bible School
URL;VALUE=URI:https://www.reidlandumc.org/events/vacation-bible-school/2026
 -06-15
ATTACH;FILENAME=Reidland-UMCJAN26-20.jpg;FMTTYPE=image/jpeg:https://dq5pwpg
 1q8ru0.cloudfront.net/2026/04/21/18/27/53/ba3caf07-94a3-4d94-85db-3041e1aa
 7da6/Reidland-UMCJAN26-20.jpg
END:VEVENT
END:VCALENDAR
